BEGIN:VCALENDAR
VERSION:2.0
PRODID:-//ChamberMaster//Event Calendar 2.0//EN
METHOD:PUBLISH
X-PUBLISHED-TTL:P3D
REFRESH-INTERVAL:P3D
CALSCALE:GREGORIAN
BEGIN:VEVENT
DTSTART:20260412T170000Z
DTEND:20260412T200000Z
X-MICROSOFT-CDO-ALLDAYEVENT:FALSE
SUMMARY:Sunday Strings w/ Black Creek String Band @ Papa Surf
DESCRIPTION:Enjoy live acoustic strings every Sunday afternoon at Papa Surf! Black Creek String Band brings the vibes with bluegrass\, folk\, and Americana while you kick back with great food and cold drinks on 30A.
X-ALT-DESC;FMTTYPE=text/html:Enjoy live acoustic strings every Sunday afternoon at Papa Surf! Black Creek String Band brings the vibes with bluegrass\, folk\, and Americana while you kick back with great food and cold drinks on 30A.
LOCATION:Papa Surf Burger Bar 4324 W County Hwy 30A Santa Rosa Beach\, FL 32459
UID:e.885.56839
SEQUENCE:3
DTSTAMP:20260424T131637Z
URL:https://waltonareachamber-gzcms.preview.gochambermaster.com/events/details/sunday-strings-w-black-creek-string-band-papa-surf-04-12-2026-56839
END:VEVENT

END:VCALENDAR
